<?xml version="1.0" encoding="UTF-8"?>
<Capabilities xmlns="http://www.opengis.net/wmts/1.0"
xmlns:ows="http://www.opengis.net/ows/1.1"
xmlns:xlink="http://www.w3.org/1999/xlink"
xmlns:xsi="http://www.w3.org/2001/XMLSchema-instance"
xmlns:gml="http://www.opengis.net/gml"
xsi:schemaLocation="http://www.opengis.net/wmts/1.0 http://schemas.opengis.net/wmts/1.0/wmtsGetCapabilities_response.xsd"
version="1.0.0">
<!-- Service Identification --> <ows:ServiceIdentification>
<ows:Title>Public_Utilities_COJ_Service_Material_Locations</ows:Title>
<ows:ServiceType>OGC WMTS</ows:ServiceType>
<ows:ServiceTypeVersion>1.0.0</ows:ServiceTypeVersion>
</ows:ServiceIdentification> <!-- Operations Metadata --> <ows:OperationsMetadata>
<ows:Operation name="GetCapabilities">
<ows:DCP>
<ows:HTTP>
<ows:Get xlink:href="https://gis.cityofjoliet.info/arcgis1/rest/services/Public_Utilities/COJ_Service_Material_Locations/MapServer/WMTS/1.0.0/WMTSCapabilities.xml">
<ows:Constraint name="GetEncoding">
<ows:AllowedValues>
<ows:Value>RESTful</ows:Value>
</ows:AllowedValues>
</ows:Constraint>
</ows:Get>
<!-- add KVP binding in 10.1 -->
<ows:Get xlink:href="https://gis.cityofjoliet.info/arcgis1/rest/services/Public_Utilities/COJ_Service_Material_Locations/MapServer/WMTS?">
<ows:Constraint name="GetEncoding">
<ows:AllowedValues>
<ows:Value>KVP</ows:Value>
</ows:AllowedValues>
</ows:Constraint>
</ows:Get>
</ows:HTTP>
</ows:DCP>
</ows:Operation>
<ows:Operation name="GetTile">
<ows:DCP>
<ows:HTTP>
<ows:Get xlink:href="https://gis.cityofjoliet.info/arcgis1/rest/services/Public_Utilities/COJ_Service_Material_Locations/MapServer/WMTS/tile/1.0.0/">
<ows:Constraint name="GetEncoding">
<ows:AllowedValues>
<ows:Value>RESTful</ows:Value>
</ows:AllowedValues>
</ows:Constraint>
</ows:Get>
<ows:Get xlink:href="https://gis.cityofjoliet.info/arcgis1/rest/services/Public_Utilities/COJ_Service_Material_Locations/MapServer/WMTS?">
<ows:Constraint name="GetEncoding">
<ows:AllowedValues>
<ows:Value>KVP</ows:Value>
</ows:AllowedValues>
</ows:Constraint>
</ows:Get>
</ows:HTTP>
</ows:DCP>
</ows:Operation>
</ows:OperationsMetadata> <Contents>
<!--Layer--> <Layer>
<ows:Title>Public_Utilities_COJ_Service_Material_Locations</ows:Title> <ows:Identifier>Public_Utilities_COJ_Service_Material_Locations</ows:Identifier>
<ows:BoundingBox crs="urn:ogc:def:crs:EPSG::3435">
<ows:LowerCorner>978725.5305575803 1737461.8971519023</ows:LowerCorner>
<ows:UpperCorner>1077571.07302358 1794783.933754325</ows:UpperCorner>
</ows:BoundingBox> <ows:WGS84BoundingBox crs="urn:ogc:def:crs:OGC:2:84">
<ows:LowerCorner>-88.35353605297588 41.43656247813401</ows:LowerCorner>
<ows:UpperCorner>-87.99217161058083 41.59438281704557</ows:UpperCorner>
</ows:WGS84BoundingBox>
<Style isDefault="true">
<ows:Title>Default Style</ows:Title>
<ows:Identifier>default</ows:Identifier>
</Style>
<Format>image/png</Format>
<TileMatrixSetLink>
<TileMatrixSet>default028mm</TileMatrixSet>
</TileMatrixSetLink>
<ResourceURL format="image/png" resourceType="tile" template="https://gis.cityofjoliet.info/arcgis1/rest/services/Public_Utilities/COJ_Service_Material_Locations/MapServer/WMTS/tile/1.0.0/Public_Utilities_COJ_Service_Material_Locations/{Style}/{TileMatrixSet}/{TileMatrix}/{TileRow}/{TileCol}.png" />
</Layer> <!--TileMatrixSet-->
<TileMatrixSet>
<ows:Title>TileMatrix using 0.28mm</ows:Title>
<ows:Abstract>The tile matrix set that has scale values calculated based on the dpi defined by OGC specification (dpi assumes 0.28mm as the physical distance of a pixel).</ows:Abstract> <ows:Identifier>default028mm</ows:Identifier>
<ows:SupportedCRS>urn:ogc:def:crs:EPSG::3435</ows:SupportedCRS>
<TileMatrix>
<ows:Identifier>0</ows:Identifier>
<ScaleDenominator>2.790656997791167E8</ScaleDenominator>
<TopLeftCorner>-3.182970891291155E7 1.9495685092346758E7</TopLeftCorner> <TileWidth>256</TileWidth> <TileHeight>256</TileHeight>
<MatrixWidth>1</MatrixWidth> <MatrixHeight>1</MatrixHeight>
</TileMatrix>
<TileMatrix>
<ows:Identifier>1</ows:Identifier>
<ScaleDenominator>1.3953284988955835E8</ScaleDenominator>
<TopLeftCorner>-3.182970891291155E7 1.9495685092346758E7</TopLeftCorner> <TileWidth>256</TileWidth> <TileHeight>256</TileHeight>
<MatrixWidth>2</MatrixWidth> <MatrixHeight>1</MatrixHeight>
</TileMatrix>
<TileMatrix>
<ows:Identifier>2</ows:Identifier>
<ScaleDenominator>6.976642494477917E7</ScaleDenominator>
<TopLeftCorner>-3.182970891291155E7 1.9495685092346758E7</TopLeftCorner> <TileWidth>256</TileWidth> <TileHeight>256</TileHeight>
<MatrixWidth>3</MatrixWidth> <MatrixHeight>2</MatrixHeight>
</TileMatrix>
<TileMatrix>
<ows:Identifier>3</ows:Identifier>
<ScaleDenominator>3.4883212472389586E7</ScaleDenominator>
<TopLeftCorner>-3.182970891291155E7 1.9495685092346758E7</TopLeftCorner> <TileWidth>256</TileWidth> <TileHeight>256</TileHeight>
<MatrixWidth>5</MatrixWidth> <MatrixHeight>3</MatrixHeight>
</TileMatrix>
<TileMatrix>
<ows:Identifier>4</ows:Identifier>
<ScaleDenominator>1.7441606236194793E7</ScaleDenominator>
<TopLeftCorner>-3.182970891291155E7 1.9495685092346758E7</TopLeftCorner> <TileWidth>256</TileWidth> <TileHeight>256</TileHeight>
<MatrixWidth>9</MatrixWidth> <MatrixHeight>5</MatrixHeight>
</TileMatrix>
<TileMatrix>
<ows:Identifier>5</ows:Identifier>
<ScaleDenominator>8720803.118097397</ScaleDenominator>
<TopLeftCorner>-3.182970891291155E7 1.9495685092346758E7</TopLeftCorner> <TileWidth>256</TileWidth> <TileHeight>256</TileHeight>
<MatrixWidth>17</MatrixWidth> <MatrixHeight>9</MatrixHeight>
</TileMatrix>
<TileMatrix>
<ows:Identifier>6</ows:Identifier>
<ScaleDenominator>4360401.559048698</ScaleDenominator>
<TopLeftCorner>-3.182970891291155E7 1.9495685092346758E7</TopLeftCorner> <TileWidth>256</TileWidth> <TileHeight>256</TileHeight>
<MatrixWidth>33</MatrixWidth> <MatrixHeight>18</MatrixHeight>
</TileMatrix>
<TileMatrix>
<ows:Identifier>7</ows:Identifier>
<ScaleDenominator>2180200.779524349</ScaleDenominator>
<TopLeftCorner>-3.182970891291155E7 1.9495685092346758E7</TopLeftCorner> <TileWidth>256</TileWidth> <TileHeight>256</TileHeight>
<MatrixWidth>65</MatrixWidth> <MatrixHeight>35</MatrixHeight>
</TileMatrix>
<TileMatrix>
<ows:Identifier>8</ows:Identifier>
<ScaleDenominator>1090100.3897621746</ScaleDenominator>
<TopLeftCorner>-3.182970891291155E7 1.9495685092346758E7</TopLeftCorner> <TileWidth>256</TileWidth> <TileHeight>256</TileHeight>
<MatrixWidth>129</MatrixWidth> <MatrixHeight>70</MatrixHeight>
</TileMatrix>
<TileMatrix>
<ows:Identifier>9</ows:Identifier>
<ScaleDenominator>545050.1948810873</ScaleDenominator>
<TopLeftCorner>-3.182970891291155E7 1.9495685092346758E7</TopLeftCorner> <TileWidth>256</TileWidth> <TileHeight>256</TileHeight>
<MatrixWidth>257</MatrixWidth> <MatrixHeight>139</MatrixHeight>
</TileMatrix>
<TileMatrix>
<ows:Identifier>10</ows:Identifier>
<ScaleDenominator>272525.09744054364</ScaleDenominator>
<TopLeftCorner>-3.182970891291155E7 1.9495685092346758E7</TopLeftCorner> <TileWidth>256</TileWidth> <TileHeight>256</TileHeight>
<MatrixWidth>514</MatrixWidth> <MatrixHeight>278</MatrixHeight>
</TileMatrix>
<TileMatrix>
<ows:Identifier>11</ows:Identifier>
<ScaleDenominator>136262.54872027182</ScaleDenominator>
<TopLeftCorner>-3.182970891291155E7 1.9495685092346758E7</TopLeftCorner> <TileWidth>256</TileWidth> <TileHeight>256</TileHeight>
<MatrixWidth>1027</MatrixWidth> <MatrixHeight>555</MatrixHeight>
</TileMatrix>
<TileMatrix>
<ows:Identifier>12</ows:Identifier>
<ScaleDenominator>68131.27436013591</ScaleDenominator>
<TopLeftCorner>-3.182970891291155E7 1.9495685092346758E7</TopLeftCorner> <TileWidth>256</TileWidth> <TileHeight>256</TileHeight>
<MatrixWidth>2054</MatrixWidth> <MatrixHeight>1109</MatrixHeight>
</TileMatrix>
<TileMatrix>
<ows:Identifier>13</ows:Identifier>
<ScaleDenominator>34065.637180067955</ScaleDenominator>
<TopLeftCorner>-3.182970891291155E7 1.9495685092346758E7</TopLeftCorner> <TileWidth>256</TileWidth> <TileHeight>256</TileHeight>
<MatrixWidth>4108</MatrixWidth> <MatrixHeight>2217</MatrixHeight>
</TileMatrix>
<TileMatrix>
<ows:Identifier>14</ows:Identifier>
<ScaleDenominator>17032.818590033978</ScaleDenominator>
<TopLeftCorner>-3.182970891291155E7 1.9495685092346758E7</TopLeftCorner> <TileWidth>256</TileWidth> <TileHeight>256</TileHeight>
<MatrixWidth>8216</MatrixWidth> <MatrixHeight>4434</MatrixHeight>
</TileMatrix>
<TileMatrix>
<ows:Identifier>15</ows:Identifier>
<ScaleDenominator>8516.409295016989</ScaleDenominator>
<TopLeftCorner>-3.182970891291155E7 1.9495685092346758E7</TopLeftCorner> <TileWidth>256</TileWidth> <TileHeight>256</TileHeight>
<MatrixWidth>16431</MatrixWidth> <MatrixHeight>8867</MatrixHeight>
</TileMatrix>
<TileMatrix>
<ows:Identifier>16</ows:Identifier>
<ScaleDenominator>4258.204647508494</ScaleDenominator>
<TopLeftCorner>-3.182970891291155E7 1.9495685092346758E7</TopLeftCorner> <TileWidth>256</TileWidth> <TileHeight>256</TileHeight>
<MatrixWidth>32862</MatrixWidth> <MatrixHeight>17734</MatrixHeight>
</TileMatrix>
<TileMatrix>
<ows:Identifier>17</ows:Identifier>
<ScaleDenominator>2129.102323754247</ScaleDenominator>
<TopLeftCorner>-3.182970891291155E7 1.9495685092346758E7</TopLeftCorner> <TileWidth>256</TileWidth> <TileHeight>256</TileHeight>
<MatrixWidth>65723</MatrixWidth> <MatrixHeight>35467</MatrixHeight>
</TileMatrix>
<TileMatrix>
<ows:Identifier>18</ows:Identifier>
<ScaleDenominator>1064.5511618771236</ScaleDenominator>
<TopLeftCorner>-3.182970891291155E7 1.9495685092346758E7</TopLeftCorner> <TileWidth>256</TileWidth> <TileHeight>256</TileHeight>
<MatrixWidth>131445</MatrixWidth> <MatrixHeight>70934</MatrixHeight>
</TileMatrix>
<TileMatrix>
<ows:Identifier>19</ows:Identifier>
<ScaleDenominator>532.2755809385618</ScaleDenominator>
<TopLeftCorner>-3.182970891291155E7 1.9495685092346758E7</TopLeftCorner> <TileWidth>256</TileWidth> <TileHeight>256</TileHeight>
<MatrixWidth>262890</MatrixWidth> <MatrixHeight>141867</MatrixHeight>
</TileMatrix>
<TileMatrix>
<ows:Identifier>20</ows:Identifier>
<ScaleDenominator>266.1377904692809</ScaleDenominator>
<TopLeftCorner>-3.182970891291155E7 1.9495685092346758E7</TopLeftCorner> <TileWidth>256</TileWidth> <TileHeight>256</TileHeight>
<MatrixWidth>525780</MatrixWidth> <MatrixHeight>283734</MatrixHeight>
</TileMatrix>
<TileMatrix>
<ows:Identifier>21</ows:Identifier>
<ScaleDenominator>133.06889523464045</ScaleDenominator>
<TopLeftCorner>-3.182970891291155E7 1.9495685092346758E7</TopLeftCorner> <TileWidth>256</TileWidth> <TileHeight>256</TileHeight>
<MatrixWidth>1051559</MatrixWidth> <MatrixHeight>567468</MatrixHeight>
</TileMatrix>
<TileMatrix>
<ows:Identifier>22</ows:Identifier>
<ScaleDenominator>66.53444761732023</ScaleDenominator>
<TopLeftCorner>-3.182970891291155E7 1.9495685092346758E7</TopLeftCorner> <TileWidth>256</TileWidth> <TileHeight>256</TileHeight>
<MatrixWidth>2103117</MatrixWidth> <MatrixHeight>1134935</MatrixHeight>
</TileMatrix>
<TileMatrix>
<ows:Identifier>23</ows:Identifier>
<ScaleDenominator>33.26722380866011</ScaleDenominator>
<TopLeftCorner>-3.182970891291155E7 1.9495685092346758E7</TopLeftCorner> <TileWidth>256</TileWidth> <TileHeight>256</TileHeight>
<MatrixWidth>4206233</MatrixWidth> <MatrixHeight>2269869</MatrixHeight>
</TileMatrix>
</TileMatrixSet>
</Contents>
<ServiceMetadataURL xlink:href="https://gis.cityofjoliet.info/arcgis1/rest/services/Public_Utilities/COJ_Service_Material_Locations/MapServer/WMTS/1.0.0/WMTSCapabilities.xml" /> </Capabilities>
