{
 "currentVersion": 11.3,
 "cimVersion": "3.3.0",
 "serviceDescription": "",
 "mapName": "Service Material Points",
 "description": "",
 "copyrightText": "",
 "supportsDynamicLayers": true,
 "layers": [
  {
   "id": 0,
   "name": "JOLIETPU.COJ_SERVICEMATERIALLOCATIONS_NEW",
   "parentLayerId": -1,
   "defaultVisibility": true,
   "subLayerIds": null,
   "minScale": 0,
   "maxScale": 0,
   "type": "Feature Layer",
   "geometryType": "esriGeometryPoint",
   "supportsDynamicLegends": true
  }
 ],
 "tables": [],
 "spatialReference": {
  "wkid": 102671,
  "latestWkid": 3435,
  "xyTolerance": 0.003280833333333333,
  "zTolerance": 0.001,
  "mTolerance": 0.001,
  "falseX": -17463800,
  "falseY": -46132600,
  "xyUnits": 3048.0060960121928,
  "falseZ": -100000,
  "zUnits": 10000,
  "falseM": -100000,
  "mUnits": 10000
 },
 "singleFusedMapCache": true,
 "tileInfo": {
  "rows": 256,
  "cols": 256,
  "dpi": 96,
  "format": "PNG",
  "compressionQuality": 0,
  "origin": {
   "x": -3.182970891291155E7,
   "y": 1.9495685092346758E7
  },
  "spatialReference": {
   "wkid": 102671,
   "latestWkid": 3435,
   "xyTolerance": 0.003280833333333333,
   "zTolerance": 0.001,
   "mTolerance": 0.001,
   "falseX": -17463800,
   "falseY": -46132600,
   "xyUnits": 3048.0060960121928,
   "falseZ": -100000,
   "zUnits": 10000,
   "falseM": -100000,
   "mUnits": 10000
  },
  "lods": [
   {
    "level": 0,
    "resolution": 256359.05400712148,
    "scale": 2.953262208686457E8
   },
   {
    "level": 1,
    "resolution": 128179.52700356074,
    "scale": 1.4766311043432286E8
   },
   {
    "level": 2,
    "resolution": 64089.76350178037,
    "scale": 7.383155521716143E7
   },
   {
    "level": 3,
    "resolution": 32044.881750890185,
    "scale": 3.6915777608580716E7
   },
   {
    "level": 4,
    "resolution": 16022.440875445092,
    "scale": 1.8457888804290358E7
   },
   {
    "level": 5,
    "resolution": 8011.220437722546,
    "scale": 9228944.402145179
   },
   {
    "level": 6,
    "resolution": 4005.610218861273,
    "scale": 4614472.2010725895
   },
   {
    "level": 7,
    "resolution": 2002.8051094306365,
    "scale": 2307236.1005362947
   },
   {
    "level": 8,
    "resolution": 1001.4025547153183,
    "scale": 1153618.0502681474
   },
   {
    "level": 9,
    "resolution": 500.70127735765914,
    "scale": 576809.0251340737
   },
   {
    "level": 10,
    "resolution": 250.35063867882957,
    "scale": 288404.51256703684
   },
   {
    "level": 11,
    "resolution": 125.17531933941478,
    "scale": 144202.25628351842
   },
   {
    "level": 12,
    "resolution": 62.58765966970739,
    "scale": 72101.12814175921
   },
   {
    "level": 13,
    "resolution": 31.293829834853696,
    "scale": 36050.564070879605
   },
   {
    "level": 14,
    "resolution": 15.646914917426848,
    "scale": 18025.282035439803
   },
   {
    "level": 15,
    "resolution": 7.823457458713424,
    "scale": 9012.641017719901
   },
   {
    "level": 16,
    "resolution": 3.911728729356712,
    "scale": 4506.320508859951
   },
   {
    "level": 17,
    "resolution": 1.955864364678356,
    "scale": 2253.1602544299753
   },
   {
    "level": 18,
    "resolution": 0.977932182339178,
    "scale": 1126.5801272149877
   },
   {
    "level": 19,
    "resolution": 0.488966091169589,
    "scale": 563.2900636074938
   },
   {
    "level": 20,
    "resolution": 0.2444830455847945,
    "scale": 281.6450318037469
   },
   {
    "level": 21,
    "resolution": 0.12224152279239725,
    "scale": 140.82251590187346
   },
   {
    "level": 22,
    "resolution": 0.061120761396198625,
    "scale": 70.41125795093673
   },
   {
    "level": 23,
    "resolution": 0.030560380698099313,
    "scale": 35.205628975468365
   }
  ]
 },
 "storageInfo": {
  "storageFormat": "esriMapCacheStorageModeCompactV2",
  "packetSize": 128
 },
 "initialExtent": {
  "xmin": 970701.0688523644,
  "ymin": 1734595.7953217812,
  "xmax": 1085595.5347287958,
  "ymax": 1797650.035584446,
  "spatialReference": {
   "wkid": 102671,
   "latestWkid": 3435,
   "xyTolerance": 0.003280833333333333,
   "zTolerance": 0.001,
   "mTolerance": 0.001,
   "falseX": -17463800,
   "falseY": -46132600,
   "xyUnits": 3048.0060960121928,
   "falseZ": -100000,
   "zUnits": 10000,
   "falseM": -100000,
   "mUnits": 10000
  }
 },
 "fullExtent": {
  "xmin": 978725.5305575803,
  "ymin": 1737461.8971519023,
  "xmax": 1077571.07302358,
  "ymax": 1794783.933754325,
  "spatialReference": {
   "wkid": 102671,
   "latestWkid": 3435,
   "xyTolerance": 0.003280833333333333,
   "zTolerance": 0.001,
   "mTolerance": 0.001,
   "falseX": -17463800,
   "falseY": -46132600,
   "xyUnits": 3048.0060960121928,
   "falseZ": -100000,
   "zUnits": 10000,
   "falseM": -100000,
   "mUnits": 10000
  }
 },
 "datesInUnknownTimezone": false,
 "minScale": 72101.12814175921,
 "maxScale": 70.41125795093673,
 "units": "esriFeet",
 "supportedImageFormatTypes": "PNG32,PNG24,PNG,JPG,DIB,TIFF,EMF,PS,PDF,GIF,SVG,SVGZ,BMP",
 "documentInfo": {
  "Title": "Service Material Points",
  "Author": "",
  "Comments": "",
  "Subject": "",
  "Category": "",
  "Version": "3.3.0",
  "AntialiasingMode": "Fast",
  "TextAntialiasingMode": "Force",
  "Keywords": ""
 },
 "supportsQueryDomains": true,
 "capabilities": "Query,Map,Data",
 "supportedQueryFormats": "JSON, geoJSON, PBF",
 "hasVersionedData": true,
 "exportTilesAllowed": false,
 "referenceScale": 0.0,
 "datumTransformations": [
  {
   "geoTransforms": [
    {
     "wkid": 108190,
     "latestWkid": 108190,
     "transformForward": true,
     "name": "WGS_1984_(ITRF00)_To_NAD_1983"
    }
   ]
  },
  {
   "geoTransforms": [
    {
     "wkid": 108190,
     "latestWkid": 108190,
     "transformForward": false,
     "name": "WGS_1984_(ITRF00)_To_NAD_1983"
    }
   ]
  }
 ],
 "supportsDatumTransformation": true,
 "archivingInfo": {
  "supportsHistoricMoment": false
 },
 "supportsClipping": true,
 "supportsSpatialFilter": true,
 "supportsTimeRelation": true,
 "supportsQueryDataElements": true,
 "mapUnits": {
  "uwkid": 9003
 },
 "maxRecordCount": 2000,
 "maxImageHeight": 4096,
 "maxImageWidth": 4096,
 "supportedExtensions": "FeatureServer",
 "serviceItemId": "acfd405106494c2596f03f61ad3978cc"
}
