View In:
ArcGIS JavaScript
ArcGIS Online Map Viewer
ArcGIS Earth
ArcGIS Pro
Service Description:
Map Name: Contractor Utility Data
Legend
All Layers and Tables
Dynamic Legend
Dynamic All Layers
Layers:
Description:
Service Item Id: 95e9781d70214f0fb3cb4afb7ec5b6b4
Copyright Text:
Spatial Reference:
102671
(3435)
LatestVCSWkid(0)
Single Fused Map Cache: true
Tile Info:
- Height: 256
- Width: 256
- DPI: 96
-
Levels of Detail: 24
-
Level ID: 0
[ Start Tile, End Tile ]
- Resolution: 256359.05400712148
- Scale: 2.953262208686457E8
-
Level ID: 1
[ Start Tile, End Tile ]
- Resolution: 128179.52700356074
- Scale: 1.4766311043432286E8
-
Level ID: 2
[ Start Tile, End Tile ]
- Resolution: 64089.76350178037
- Scale: 7.383155521716143E7
-
Level ID: 3
[ Start Tile, End Tile ]
- Resolution: 32044.881750890185
- Scale: 3.6915777608580716E7
-
Level ID: 4
[ Start Tile, End Tile ]
- Resolution: 16022.440875445092
- Scale: 1.8457888804290358E7
-
Level ID: 5
[ Start Tile, End Tile ]
- Resolution: 8011.220437722546
- Scale: 9228944.402145179
-
Level ID: 6
[ Start Tile, End Tile ]
- Resolution: 4005.610218861273
- Scale: 4614472.2010725895
-
Level ID: 7
[ Start Tile, End Tile ]
- Resolution: 2002.8051094306365
- Scale: 2307236.1005362947
-
Level ID: 8
[ Start Tile, End Tile ]
- Resolution: 1001.4025547153183
- Scale: 1153618.0502681474
-
Level ID: 9
[ Start Tile, End Tile ]
- Resolution: 500.70127735765914
- Scale: 576809.0251340737
-
Level ID: 10
[ Start Tile, End Tile ]
- Resolution: 250.35063867882957
- Scale: 288404.51256703684
-
Level ID: 11
[ Start Tile, End Tile ]
- Resolution: 125.17531933941478
- Scale: 144202.25628351842
-
Level ID: 12
[ Start Tile, End Tile ]
- Resolution: 62.58765966970739
- Scale: 72101.12814175921
-
Level ID: 13
[ Start Tile, End Tile ]
- Resolution: 31.293829834853696
- Scale: 36050.564070879605
-
Level ID: 14
[ Start Tile, End Tile ]
- Resolution: 15.646914917426848
- Scale: 18025.282035439803
-
Level ID: 15
[ Start Tile, End Tile ]
- Resolution: 7.823457458713424
- Scale: 9012.641017719901
-
Level ID: 16
[ Start Tile, End Tile ]
- Resolution: 3.911728729356712
- Scale: 4506.320508859951
-
Level ID: 17
[ Start Tile, End Tile ]
- Resolution: 1.955864364678356
- Scale: 2253.1602544299753
-
Level ID: 18
[ Start Tile, End Tile ]
- Resolution: 0.977932182339178
- Scale: 1126.5801272149877
-
Level ID: 19
[ Start Tile, End Tile ]
- Resolution: 0.488966091169589
- Scale: 563.2900636074938
-
Level ID: 20
[ Start Tile, End Tile ]
- Resolution: 0.2444830455847945
- Scale: 281.6450318037469
-
Level ID: 21
[ Start Tile, End Tile ]
- Resolution: 0.12224152279239725
- Scale: 140.82251590187346
-
Level ID: 22
[ Start Tile, End Tile ]
- Resolution: 0.061120761396198625
- Scale: 70.41125795093673
-
Level ID: 23
[ Start Tile, End Tile ]
- Resolution: 0.030560380698099313
- Scale: 35.205628975468365
- Format: PNG
- Compression Quality: 0.0
- Origin: X: -3.182970891291155E7
Y: 1.9495685092346758E7
- Spatial Reference: 102671
(3435)
LatestVCSWkid(0)
Storage Info:
- Storage Format: esriMapCacheStorageModeCompactV2
- Packet Size: 128
Initial Extent:
XMin: 954865.7098331815
YMin: 1712632.33142448
XMax: 1103417.1244714102
YMax: 1813340.898237548
Spatial Reference: 102671
(3435)
LatestVCSWkid(0)
Full Extent:
XMin: 955182.1507164345
YMin: 1712722.7431054097
XMax: 1103733.5653546632
YMax: 1813431.3099184777
Spatial Reference: 102671
(3435)
LatestVCSWkid(0)
Units: esriFeet
Supported Image Format Types: PNG32,PNG24,PNG,JPG,DIB,TIFF,EMF,PS,PDF,GIF,SVG,SVGZ,BMP
Document Info:
Title: Map3
Author:
Comments:
Subject:
Category:
Keywords: Contractor_Utility_Data,MapServer
AntialiasingMode: Fast
TextAntialiasingMode: Force
Supports Dynamic Layers: true
Resampling: false
MaxRecordCount: 2000
MaxImageHeight: 4096
MaxImageWidth: 4096
Supported Query Formats: JSON, geoJSON, PBF
Supports Query Data Elements: true
Min Scale: 0
Max Scale: 0
Supports Datum Transformation: true
Child Resources:
Info
Dynamic Layer
Supported Operations:
Export Map
Identify
QueryLegends
QueryDomains
Find
Return Updates